BEGIN:VCALENDAR
VERSION:2.0
PRODID:-//Northumberland Union of Golf Clubs - ECPv6.13.2.1//NONSGML v1.0//EN
CALSCALE:GREGORIAN
METHOD:PUBLISH
X-ORIGINAL-URL:https://nugc.org.uk
X-WR-CALDESC:Events for Northumberland Union of Golf Clubs
REFRESH-INTERVAL;VALUE=DURATION:PT1H
X-Robots-Tag:noindex
X-PUBLISHED-TTL:PT1H
BEGIN:VTIMEZONE
TZID:Europe/London
BEGIN:DAYLIGHT
TZOFFSETFROM:+0000
TZOFFSETTO:+0100
TZNAME:BST
DTSTART:20240331T010000
END:DAYLIGHT
BEGIN:STANDARD
TZOFFSETFROM:+0100
TZOFFSETTO:+0000
TZNAME:GMT
DTSTART:20241027T010000
END:STANDARD
END:VTIMEZONE
BEGIN:VEVENT
DTSTART;VALUE=DATE:20240730
DTEND;VALUE=DATE:20240731
DTSTAMP:20260420T135216
CREATED:20240211T133809Z
LAST-MODIFIED:20240211T133809Z
UID:10000406-1722297600-1722383999@nugc.org.uk
SUMMARY:Northumberland Juniors v Durham
DESCRIPTION:
URL:https://nugc.org.uk/event/northumberland-juniors-v-durham/
LOCATION:Blyth Golf Club\, 69 Plessey Road\, Blyth\, NE24 4DB\, United Kingdom
CATEGORIES:Juniors
GEO:55.1247962;-1.50449
X-APPLE-STRUCTURED-LOCATION;VALUE=URI;X-ADDRESS=Blyth Golf Club 69 Plessey Road Blyth NE24 4DB United Kingdom;X-APPLE-RADIUS=500;X-TITLE=69 Plessey Road:geo:-1.50449,55.1247962
END:VEVENT
END:VCALENDAR