BEGIN:VCALENDAR
VERSION:2.0
PRODID:-//Northumberland Union of Golf Clubs - ECPv6.13.2.1//NONSGML v1.0//EN
CALSCALE:GREGORIAN
METHOD:PUBLISH
X-WR-CALNAME:Northumberland Union of Golf Clubs
X-ORIGINAL-URL:https://nugc.org.uk
X-WR-CALDESC:Events for Northumberland Union of Golf Clubs
REFRESH-INTERVAL;VALUE=DURATION:PT1H
X-Robots-Tag:noindex
X-PUBLISHED-TTL:PT1H
BEGIN:VTIMEZONE
TZID:Europe/London
BEGIN:DAYLIGHT
TZOFFSETFROM:+0000
TZOFFSETTO:+0100
TZNAME:BST
DTSTART:20240331T010000
END:DAYLIGHT
BEGIN:STANDARD
TZOFFSETFROM:+0100
TZOFFSETTO:+0000
TZNAME:GMT
DTSTART:20241027T010000
END:STANDARD
END:VTIMEZONE
BEGIN:VEVENT
DTSTART;VALUE=DATE:20240602
DTEND;VALUE=DATE:20240603
DTSTAMP:20260424T120111
CREATED:20240123T001041Z
LAST-MODIFIED:20240123T001041Z
UID:10000382-1717286400-1717372799@nugc.org.uk
SUMMARY:Junior Teams Championship
DESCRIPTION:Golf Genius Event Code: bfgnphGolf Genius Event Portal: https://www.golfgenius.com/ggid/bfgnph
URL:https://nugc.org.uk/event/junior-teams-championship/
LOCATION:Bedlingtonshire Golf Club\, Hartford Road\, NE22 6AA
CATEGORIES:Juniors
GEO:55.1201382;-1.6150018
X-APPLE-STRUCTURED-LOCATION;VALUE=URI;X-ADDRESS=Bedlingtonshire Golf Club Hartford Road NE22 6AA;X-APPLE-RADIUS=500;X-TITLE=Hartford Road\, NE22 6AA:geo:-1.6150018,55.1201382
END:VEVENT
END:VCALENDAR